BEGIN:VCALENDAR
VERSION:2.0
METHOD:PUBLISH
BEGIN:VEVENT
DTSTART:20181107T080000
DTEND:20181107T110000
LOCATION:
SEQUENCE:0
UID:
DTSTAMP:20260422T145036Z
SUMMARY: Frühlingsmarkt 2017: Beitrag im Anzeiger von Wallisellen
DESCRIPTION:Artikel im Anzeiger von Wallisellen über den erfolgreichen Frühlingsmarkt im Mai:
PRIORITY:1
CLASS:PUBLIC
BEGIN:VALARM
TRIGGER:-PT10080M
ACTION:DISPLAY
DESCRIPTION:Reminder
END:VALARM
END:VEVENT
END:VCALENDAR
