BEGIN:VCALENDAR
VERSION:2.0
METHOD:PUBLISH
BEGIN:VEVENT
DTSTART:20220210T080000
DTEND:20220210T110000
LOCATION:
SEQUENCE:0
UID:
DTSTAMP:20260422T144916Z
SUMMARY:10.02.2022: Anzeiger von Wallisellen
DESCRIPTION:Der Gewerbeverein Wallisellen hat zum geselligen Winteranlass auf das spiegelglatte Eis des Sportzentrums eingeladen.
PRIORITY:1
CLASS:PUBLIC
BEGIN:VALARM
TRIGGER:-PT10080M
ACTION:DISPLAY
DESCRIPTION:Reminder
END:VALARM
END:VEVENT
END:VCALENDAR
