BEGIN:VCALENDAR
VERSION:2.0
METHOD:PUBLISH
BEGIN:VEVENT
DTSTART:20220215T080000
DTEND:20220215T110000
LOCATION:
SEQUENCE:0
UID:
DTSTAMP:20260422T145143Z
SUMMARY:Gewerbezeitung Bezirk Bülach Februar 2022
DESCRIPTION:Die Februarausgabe der Gewerbezeitung ist erschienen
PRIORITY:1
CLASS:PUBLIC
BEGIN:VALARM
TRIGGER:-PT10080M
ACTION:DISPLAY
DESCRIPTION:Reminder
END:VALARM
END:VEVENT
END:VCALENDAR
