BEGIN:VCALENDAR
VERSION:2.0
METHOD:PUBLISH
BEGIN:VEVENT
DTSTART:20181107T080000
DTEND:20181107T110000
LOCATION:
SEQUENCE:0
UID:
DTSTAMP:20260422T145006Z
SUMMARY: Artikel zur 100. Generalversammlung
DESCRIPTION:Nach hundert Jahren erstmals eine Frau an der Spitze
PRIORITY:1
CLASS:PUBLIC
BEGIN:VALARM
TRIGGER:-PT10080M
ACTION:DISPLAY
DESCRIPTION:Reminder
END:VALARM
END:VEVENT
END:VCALENDAR
