BEGIN:VCALENDAR
VERSION:2.0
METHOD:PUBLISH
BEGIN:VEVENT
DTSTART:20221130T091827
DTEND:20221130T121827
LOCATION:
SEQUENCE:0
UID:
DTSTAMP:20260422T145316Z
SUMMARY:Gewerbezeitung Bezirk Bülach November 2022
DESCRIPTION:Die Novemberausgabe der Gewerbezeitung ist erschienen
PRIORITY:1
CLASS:PUBLIC
BEGIN:VALARM
TRIGGER:-PT10080M
ACTION:DISPLAY
DESCRIPTION:Reminder
END:VALARM
END:VEVENT
END:VCALENDAR
