BEGIN:VCALENDAR
VERSION:2.0
METHOD:PUBLISH
BEGIN:VEVENT
DTSTART:20230103T111000
DTEND:20230103T141000
LOCATION:
SEQUENCE:0
UID:
DTSTAMP:20260422T145138Z
SUMMARY:Gewerbezeitung Bezirk Bülach Januar 2023
DESCRIPTION:Die Januarausgabe 2023 der Gewerbezeitung ist erschienen
PRIORITY:1
CLASS:PUBLIC
BEGIN:VALARM
TRIGGER:-PT10080M
ACTION:DISPLAY
DESCRIPTION:Reminder
END:VALARM
END:VEVENT
END:VCALENDAR
