BEGIN:VCALENDAR
VERSION:2.0
METHOD:PUBLISH
BEGIN:VEVENT
DTSTART:20230328T083400
DTEND:20230328T113400
LOCATION:
SEQUENCE:0
UID:
DTSTAMP:20260422T145306Z
SUMMARY:Gewerbezeitung Bezirk Bülach März 2023
DESCRIPTION:Die Märzausgabe 2023 der Gewerbezeitung ist erschienen.
PRIORITY:1
CLASS:PUBLIC
BEGIN:VALARM
TRIGGER:-PT10080M
ACTION:DISPLAY
DESCRIPTION:Reminder
END:VALARM
END:VEVENT
END:VCALENDAR
