BEGIN:VCALENDAR
VERSION:2.0
METHOD:PUBLISH
BEGIN:VEVENT
DTSTART:20230912T083400
DTEND:20230912T113400
LOCATION:
SEQUENCE:0
UID:
DTSTAMP:20260422T132448Z
SUMMARY:Gewerbezeitung Bezirk Bülach September 2023
DESCRIPTION:Die Septemberausgabe 2023 der Gewerbezeitung ist erschienen.
PRIORITY:1
CLASS:PUBLIC
BEGIN:VALARM
TRIGGER:-PT10080M
ACTION:DISPLAY
DESCRIPTION:Reminder
END:VALARM
END:VEVENT
END:VCALENDAR
