BEGIN:VCALENDAR
VERSION:2.0
METHOD:PUBLISH
BEGIN:VEVENT
DTSTART:20181116T000000
DTEND:20181116T030000
LOCATION:
SEQUENCE:0
UID:
DTSTAMP:20260422T144623Z
SUMMARY:Gewerbezeitung Bezirk Bülach November 2018
DESCRIPTION:Die Novemberausgabe der Gewerbezeitung ist erscheinen, mit einem Artikel zum letzten Business-Lunch des Gewerbevereins Wallisellen
PRIORITY:1
CLASS:PUBLIC
BEGIN:VALARM
TRIGGER:-PT10080M
ACTION:DISPLAY
DESCRIPTION:Reminder
END:VALARM
END:VEVENT
END:VCALENDAR
