BEGIN:VCALENDAR
VERSION:2.0
METHOD:PUBLISH
BEGIN:VEVENT
DTSTART:20240213T161500
DTEND:20240213T191500
LOCATION:
SEQUENCE:0
UID:
DTSTAMP:20260422T132145Z
SUMMARY:Gewerbezeitung Bezirk Bülach Februar 2024
DESCRIPTION:Die Februarausgabe 2024 der Gewerbezeitung ist erschienen.
PRIORITY:1
CLASS:PUBLIC
BEGIN:VALARM
TRIGGER:-PT10080M
ACTION:DISPLAY
DESCRIPTION:Reminder
END:VALARM
END:VEVENT
END:VCALENDAR
