BEGIN:VCALENDAR
VERSION:2.0
METHOD:PUBLISH
BEGIN:VEVENT
DTSTART:20240321T142723
DTEND:20240321T172723
LOCATION:
SEQUENCE:0
UID:
DTSTAMP:20260422T132054Z
SUMMARY:21.03.2024: Anzeiger von Wallisellen
DESCRIPTION:Äusserst zahlreich besuchten die Gewerblerinnen und Gewerbler die diesjährige Generalversammlung des Gewerbevereins Wallisellen im Saal zum Doktorhaus.
PRIORITY:1
CLASS:PUBLIC
BEGIN:VALARM
TRIGGER:-PT10080M
ACTION:DISPLAY
DESCRIPTION:Reminder
END:VALARM
END:VEVENT
END:VCALENDAR
