BEGIN:VCALENDAR
VERSION:2.0
METHOD:PUBLISH
BEGIN:VEVENT
DTSTART:20240429T100956
DTEND:20240429T130956
LOCATION:
SEQUENCE:0
UID:
DTSTAMP:20260422T132329Z
SUMMARY:Gewerbezeitung Bezirk Bülach April 2024
DESCRIPTION:Die Aprilausgabe 2024 der Gewerbezeitung ist erschienen.
PRIORITY:1
CLASS:PUBLIC
BEGIN:VALARM
TRIGGER:-PT10080M
ACTION:DISPLAY
DESCRIPTION:Reminder
END:VALARM
END:VEVENT
END:VCALENDAR
