BEGIN:VCALENDAR
VERSION:2.0
METHOD:PUBLISH
BEGIN:VEVENT
DTSTART:20240910T090200
DTEND:20240910T120200
LOCATION:
SEQUENCE:0
UID:
DTSTAMP:20260422T132128Z
SUMMARY:Gewerbezeitung Bezirk Bülach September 2024
DESCRIPTION:Die Septemberausgabe 2024 der Gewerbezeitung ist erschienen.
PRIORITY:1
CLASS:PUBLIC
BEGIN:VALARM
TRIGGER:-PT10080M
ACTION:DISPLAY
DESCRIPTION:Reminder
END:VALARM
END:VEVENT
END:VCALENDAR
