BEGIN:VCALENDAR
VERSION:2.0
METHOD:PUBLISH
BEGIN:VEVENT
DTSTART:20241112T090200
DTEND:20241112T120200
LOCATION:
SEQUENCE:0
UID:
DTSTAMP:20260422T132442Z
SUMMARY:Gewerbezeitung Bezirk Bülach November 2024
DESCRIPTION:Die Novemberausgabe 2024 der Gewerbezeitung ist erschienen.
PRIORITY:1
CLASS:PUBLIC
BEGIN:VALARM
TRIGGER:-PT10080M
ACTION:DISPLAY
DESCRIPTION:Reminder
END:VALARM
END:VEVENT
END:VCALENDAR
