BEGIN:VCALENDAR
VERSION:2.0
METHOD:PUBLISH
BEGIN:VEVENT
DTSTART:20250214T090200
DTEND:20250214T120200
LOCATION:
SEQUENCE:0
UID:
DTSTAMP:20260422T132217Z
SUMMARY:Gewerbezeitung Bezirk Bülach Februar 2025
DESCRIPTION:Die Februarausgabe 2025 der Gewerbezeitung ist erschienen.
PRIORITY:1
CLASS:PUBLIC
BEGIN:VALARM
TRIGGER:-PT10080M
ACTION:DISPLAY
DESCRIPTION:Reminder
END:VALARM
END:VEVENT
END:VCALENDAR
