BEGIN:VCALENDAR
VERSION:2.0
METHOD:PUBLISH
BEGIN:VEVENT
DTSTART:20260427T113000
DTEND:20260427T143000
LOCATION:
SEQUENCE:0
UID:
DTSTAMP:20260422T120128Z
SUMMARY:Gwerblerlunch April 2026
DESCRIPTION:Montag, 27. April 2026
Restaurant Il Faro, Bahnhofplatz 2, 8304 Wallisellen
PRIORITY:1
CLASS:PUBLIC
BEGIN:VALARM
TRIGGER:-PT10080M
ACTION:DISPLAY
DESCRIPTION:Reminder
END:VALARM
END:VEVENT
END:VCALENDAR
