BEGIN:VCALENDAR
VERSION:2.0
METHOD:PUBLISH
BEGIN:VEVENT
DTSTART:20260703T180000
DTEND:20260703T210000
LOCATION:
SEQUENCE:0
UID:
DTSTAMP:20260422T120200Z
SUMMARY:Sommernachtsplausch 2026
DESCRIPTION:17:30 - 23:00
Raum Wallisellen
PRIORITY:1
CLASS:PUBLIC
BEGIN:VALARM
TRIGGER:-PT10080M
ACTION:DISPLAY
DESCRIPTION:Reminder
END:VALARM
END:VEVENT
END:VCALENDAR
