BEGIN:VCALENDAR
VERSION:2.0
METHOD:PUBLISH
BEGIN:VEVENT
DTSTART:20250912T085900
DTEND:20250912T115900
LOCATION:
SEQUENCE:0
UID:
DTSTAMP:20260422T132201Z
SUMMARY:Gewerbezeitung Bezirk Bülach September 2025
DESCRIPTION:Die Septemberausgabe 2025 der Gewerbezeitung ist erschienen.
PRIORITY:1
CLASS:PUBLIC
BEGIN:VALARM
TRIGGER:-PT10080M
ACTION:DISPLAY
DESCRIPTION:Reminder
END:VALARM
END:VEVENT
END:VCALENDAR
