BEGIN:VCALENDAR
VERSION:2.0
METHOD:PUBLISH
BEGIN:VEVENT
DTSTART:20260217T080000
DTEND:20260217T110000
LOCATION:
SEQUENCE:0
UID:
DTSTAMP:20260422T132312Z
SUMMARY:Gewerbezeitung Bezirk Bülach Februar 2026
DESCRIPTION:Die Februarausgabe 2026 der Gewerbezeitung ist erschienen.
PRIORITY:1
CLASS:PUBLIC
BEGIN:VALARM
TRIGGER:-PT10080M
ACTION:DISPLAY
DESCRIPTION:Reminder
END:VALARM
END:VEVENT
END:VCALENDAR
