BEGIN:VCALENDAR
VERSION:2.0
METHOD:PUBLISH
BEGIN:VEVENT
DTSTART:20190221T000000
DTEND:20190221T030000
LOCATION:
SEQUENCE:0
UID:
DTSTAMP:20260422T144455Z
SUMMARY:21.02.2019: Vorstellung des Organisationskomitees
DESCRIPTION:Artikel im Anzeiger von Wallisellen über die kommende Wallisellen Messe 2020 mit Vorstellung des Organisationskomitees.
PRIORITY:1
CLASS:PUBLIC
BEGIN:VALARM
TRIGGER:-PT10080M
ACTION:DISPLAY
DESCRIPTION:Reminder
END:VALARM
END:VEVENT
END:VCALENDAR
