BEGIN:VCALENDAR
VERSION:2.0
METHOD:PUBLISH
BEGIN:VEVENT
DTSTART:20190227T000000
DTEND:20190227T030000
LOCATION:
SEQUENCE:0
UID:
DTSTAMP:20260422T143920Z
SUMMARY:Gewerbezeitung Bezirk Bülach Februar 2019
DESCRIPTION:Die Februarasugaben der Gewerbezeitung ist erscheinen, mit einem Artikel zum Curling-Event des Gewerbevereins Wallisellen
PRIORITY:1
CLASS:PUBLIC
BEGIN:VALARM
TRIGGER:-PT10080M
ACTION:DISPLAY
DESCRIPTION:Reminder
END:VALARM
END:VEVENT
END:VCALENDAR
