BEGIN:VCALENDAR
VERSION:2.0
METHOD:PUBLISH
BEGIN:VEVENT
DTSTART:20190328T000000
DTEND:20190328T030000
LOCATION:
SEQUENCE:0
UID:
DTSTAMP:20260422T144331Z
SUMMARY:28.03.2019: Anzeiger von Wallisellen
DESCRIPTION:GV 2019: Rückblick auf ein gelungenes Jahr. Generalversammlung mit Abgeordneten von 47 Walliseller Firmen.
PRIORITY:1
CLASS:PUBLIC
BEGIN:VALARM
TRIGGER:-PT10080M
ACTION:DISPLAY
DESCRIPTION:Reminder
END:VALARM
END:VEVENT
END:VCALENDAR
