BEGIN:VCALENDAR
VERSION:2.0
METHOD:PUBLISH
BEGIN:VEVENT
DTSTART:20190414T112244
DTEND:20190414T142244
LOCATION:
SEQUENCE:0
UID:
DTSTAMP:20260422T143857Z
SUMMARY:04.04.2019: Grosses Interesse an der Sommermesse WM2020
DESCRIPTION:Artikel im Anzeiger von Wallisellen über den Business Lunch und das Kickoff der Walliseller Messe 2020 im Doktorhaus Wallisellen.
PRIORITY:1
CLASS:PUBLIC
BEGIN:VALARM
TRIGGER:-PT10080M
ACTION:DISPLAY
DESCRIPTION:Reminder
END:VALARM
END:VEVENT
END:VCALENDAR
