BEGIN:VCALENDAR
VERSION:2.0
METHOD:PUBLISH
BEGIN:VEVENT
DTSTART:20190828T161627
DTEND:20190828T191627
LOCATION:
SEQUENCE:0
UID:
DTSTAMP:20260422T144337Z
SUMMARY:28.08.2019: Ein Jahr zur WM 2020
DESCRIPTION:Video Beitrag auf TeleVista zur Walliseller Messe 2020
PRIORITY:1
CLASS:PUBLIC
BEGIN:VALARM
TRIGGER:-PT10080M
ACTION:DISPLAY
DESCRIPTION:Reminder
END:VALARM
END:VEVENT
END:VCALENDAR
