BEGIN:VCALENDAR
VERSION:2.0
METHOD:PUBLISH
BEGIN:VEVENT
DTSTART:20190514T020000
DTEND:20190514T050000
LOCATION:
SEQUENCE:0
UID:
DTSTAMP:20260422T144208Z
SUMMARY:Gewerbezeitung Bezirk Bülach Mai 2019
DESCRIPTION:Die Maiausgabe der Gewerbezeitung ist erscheinen, mit einem Artikel zum Altersausflug des Gewerbevereins Wallisellen
PRIORITY:1
CLASS:PUBLIC
BEGIN:VALARM
TRIGGER:-PT10080M
ACTION:DISPLAY
DESCRIPTION:Reminder
END:VALARM
END:VEVENT
END:VCALENDAR
