BEGIN:VCALENDAR
VERSION:2.0
METHOD:PUBLISH
BEGIN:VEVENT
DTSTART:20190913T000000
DTEND:20190913T030000
LOCATION:
SEQUENCE:0
UID:
DTSTAMP:20260422T144916Z
SUMMARY:12.09.2019: Blick hinter die Kulissen der Stiftung Altried
DESCRIPTION:Ein Blick hinter die Kulissen der Stiftung Altried.
PRIORITY:1
CLASS:PUBLIC
BEGIN:VALARM
TRIGGER:-PT10080M
ACTION:DISPLAY
DESCRIPTION:Reminder
END:VALARM
END:VEVENT
END:VCALENDAR
