BEGIN:VCALENDAR
VERSION:2.0
METHOD:PUBLISH
BEGIN:VEVENT
DTSTART:20190905T000000
DTEND:20190905T030000
LOCATION:
SEQUENCE:0
UID:
DTSTAMP:20260422T144757Z
SUMMARY:05.09.2019: Anzeiger von Wallisellen
DESCRIPTION:Altersausflug 2019: Mit den Gewerblern in den Kinderzoo
PRIORITY:1
CLASS:PUBLIC
BEGIN:VALARM
TRIGGER:-PT10080M
ACTION:DISPLAY
DESCRIPTION:Reminder
END:VALARM
END:VEVENT
END:VCALENDAR
