BEGIN:VCALENDAR
VERSION:2.0
METHOD:PUBLISH
BEGIN:VEVENT
DTSTART:20191010T000000
DTEND:20191010T030000
LOCATION:
SEQUENCE:0
UID:
DTSTAMP:20260422T145204Z
SUMMARY:10.10.2019: Anzeiger von Wallisellen
DESCRIPTION:Berufserkundungstag 2019: Schülerschaft schnuppert Berufsluft
PRIORITY:1
CLASS:PUBLIC
BEGIN:VALARM
TRIGGER:-PT10080M
ACTION:DISPLAY
DESCRIPTION:Reminder
END:VALARM
END:VEVENT
END:VCALENDAR
