BEGIN:VCALENDAR
VERSION:2.0
METHOD:PUBLISH
BEGIN:VEVENT
DTSTART:20190904T000000
DTEND:20190904T030000
LOCATION:
SEQUENCE:0
UID:
DTSTAMP:20260422T145249Z
SUMMARY:04.09.2019: Altersausflug von Corinne Remund
DESCRIPTION:Videobeitrag auf TeleVista zum Altersausflug in den Kinderzoo
PRIORITY:1
CLASS:PUBLIC
BEGIN:VALARM
TRIGGER:-PT10080M
ACTION:DISPLAY
DESCRIPTION:Reminder
END:VALARM
END:VEVENT
END:VCALENDAR
