BEGIN:VCALENDAR
VERSION:2.0
METHOD:PUBLISH
BEGIN:VEVENT
DTSTART:20191128T133326
DTEND:20191128T163326
LOCATION:
SEQUENCE:0
UID:
DTSTAMP:20260422T145026Z
SUMMARY:Gewerbezeitung Bezirk Bülach September 2019
DESCRIPTION:Die Septemberausgabe der Gewerbezeitung ist erscheinen, mit einem Artikel zum Altersausflug des Gewerbevereins Wallisellen
PRIORITY:1
CLASS:PUBLIC
BEGIN:VALARM
TRIGGER:-PT10080M
ACTION:DISPLAY
DESCRIPTION:Reminder
END:VALARM
END:VEVENT
END:VCALENDAR
