BEGIN:VCALENDAR
VERSION:2.0
METHOD:PUBLISH
BEGIN:VEVENT
DTSTART:20200130T120000
DTEND:20200130T150000
LOCATION:
SEQUENCE:0
UID:
DTSTAMP:20260422T144833Z
SUMMARY:30.01.2020: Anzeiger von Wallisellen
DESCRIPTION:Die Vorbereitungsarbeiten für die diesjährige Walliseller Messe von Ende Juni laufen auf Hochtouren.
PRIORITY:1
CLASS:PUBLIC
BEGIN:VALARM
TRIGGER:-PT10080M
ACTION:DISPLAY
DESCRIPTION:Reminder
END:VALARM
END:VEVENT
END:VCALENDAR
