BEGIN:VCALENDAR
VERSION:2.0
METHOD:PUBLISH
BEGIN:VEVENT
DTSTART:20200213T000000
DTEND:20200213T030000
LOCATION:
SEQUENCE:0
UID:
DTSTAMP:20260422T144903Z
SUMMARY:13.02.2020: Anzeiger von Wallisellen
DESCRIPTION:Curlingspass und Fondueplausch
PRIORITY:1
CLASS:PUBLIC
BEGIN:VALARM
TRIGGER:-PT10080M
ACTION:DISPLAY
DESCRIPTION:Reminder
END:VALARM
END:VEVENT
END:VCALENDAR
