BEGIN:VCALENDAR
VERSION:2.0
METHOD:PUBLISH
BEGIN:VEVENT
DTSTART:20200327T133438
DTEND:20200327T163438
LOCATION:
SEQUENCE:0
UID:
DTSTAMP:20260422T144756Z
SUMMARY:27.03.2020: Walliseller Messe 2020 abgesagt
DESCRIPTION:Aufgrund der aktuellen Lage mit dem Coronavirus muss die Walliseller Messe 2020 abgesagt werden.
PRIORITY:1
CLASS:PUBLIC
BEGIN:VALARM
TRIGGER:-PT10080M
ACTION:DISPLAY
DESCRIPTION:Reminder
END:VALARM
END:VEVENT
END:VCALENDAR
