BEGIN:VCALENDAR
VERSION:2.0
METHOD:PUBLISH
BEGIN:VEVENT
DTSTART:20200331T102104
DTEND:20200331T132104
LOCATION:
SEQUENCE:0
UID:
DTSTAMP:20260422T144751Z
SUMMARY:19.03.2020: Anzeiger von Wallisellen
DESCRIPTION:Anzeiger von Wallisellen vom 19.März
PRIORITY:1
CLASS:PUBLIC
BEGIN:VALARM
TRIGGER:-PT10080M
ACTION:DISPLAY
DESCRIPTION:Reminder
END:VALARM
END:VEVENT
END:VCALENDAR
