BEGIN:VCALENDAR
VERSION:2.0
METHOD:PUBLISH
BEGIN:VEVENT
DTSTART:20200331T115104
DTEND:20200331T145104
LOCATION:
SEQUENCE:0
UID:
DTSTAMP:20260422T144750Z
SUMMARY:26.03.2020: Anzeiger von Wallisellen
DESCRIPTION:Grossanlass muss abgesagt werden.
PRIORITY:1
CLASS:PUBLIC
BEGIN:VALARM
TRIGGER:-PT10080M
ACTION:DISPLAY
DESCRIPTION:Reminder
END:VALARM
END:VEVENT
END:VCALENDAR
