BEGIN:VCALENDAR
VERSION:2.0
METHOD:PUBLISH
BEGIN:VEVENT
DTSTART:20200915T120000
DTEND:20200915T150000
LOCATION:
SEQUENCE:0
UID:
DTSTAMP:20260422T144914Z
SUMMARY:Gewerbezeitung Bezirk Bülach September 2020
DESCRIPTION:Die Septemberausgabe der Gewerbezeitung ist erschienen.
PRIORITY:1
CLASS:PUBLIC
BEGIN:VALARM
TRIGGER:-PT10080M
ACTION:DISPLAY
DESCRIPTION:Reminder
END:VALARM
END:VEVENT
END:VCALENDAR
