BEGIN:VCALENDAR
VERSION:2.0
METHOD:PUBLISH
BEGIN:VEVENT
DTSTART:20201117T120000
DTEND:20201117T150000
LOCATION:
SEQUENCE:0
UID:
DTSTAMP:20260422T144832Z
SUMMARY:Gewerbezeitung Bezirk Bülach November 2020
DESCRIPTION:Die Novemberausgabe der Gewerbezeitung ist erschienen
PRIORITY:1
CLASS:PUBLIC
BEGIN:VALARM
TRIGGER:-PT10080M
ACTION:DISPLAY
DESCRIPTION:Reminder
END:VALARM
END:VEVENT
END:VCALENDAR
