BEGIN:VCALENDAR
VERSION:2.0
METHOD:PUBLISH
BEGIN:VEVENT
DTSTART:20210216T000000
DTEND:20210216T030000
LOCATION:
SEQUENCE:0
UID:
DTSTAMP:20260422T145031Z
SUMMARY:Gewerbezeitung Bezirk Bülach Februar 2021
DESCRIPTION:Die Februarausgabe der Gewerbezeitung ist erschienen
PRIORITY:1
CLASS:PUBLIC
BEGIN:VALARM
TRIGGER:-PT10080M
ACTION:DISPLAY
DESCRIPTION:Reminder
END:VALARM
END:VEVENT
END:VCALENDAR
