BEGIN:VCALENDAR
VERSION:2.0
METHOD:PUBLISH
BEGIN:VEVENT
DTSTART:20181107T080000
DTEND:20181107T110000
LOCATION:
SEQUENCE:0
UID:
DTSTAMP:20260422T144511Z
SUMMARY: Gewerbezeitung Bezirk Bülach März 2018
DESCRIPTION:Die neue Gewerbezeitung des Bezirks Bülach ist soeben erschienen. Dies ist die erste Ausgabe, und der Gewerbeverein Wallisellen ist darin prominent vertreten.
PRIORITY:1
CLASS:PUBLIC
BEGIN:VALARM
TRIGGER:-PT10080M
ACTION:DISPLAY
DESCRIPTION:Reminder
END:VALARM
END:VEVENT
END:VCALENDAR
