BEGIN:VCALENDAR
VERSION:2.0
METHOD:PUBLISH
BEGIN:VEVENT
DTSTART:20210915T114713
DTEND:20210915T144713
LOCATION:
SEQUENCE:0
UID:
DTSTAMP:20260422T145133Z
SUMMARY:Gewerbezeitung Bezirk Bülach September 2021
DESCRIPTION:Die Septemberausgabe der Gewerbezeitung ist erschienen
PRIORITY:1
CLASS:PUBLIC
BEGIN:VALARM
TRIGGER:-PT10080M
ACTION:DISPLAY
DESCRIPTION:Reminder
END:VALARM
END:VEVENT
END:VCALENDAR
