BEGIN:VCALENDAR
VERSION:2.0
METHOD:PUBLISH
BEGIN:VEVENT
DTSTART:20211007T090100
DTEND:20211007T120100
LOCATION:
SEQUENCE:0
UID:
DTSTAMP:20260422T144904Z
SUMMARY:07.10.2021: Anzeiger von Wallisellen
DESCRIPTION:Das Organisationskomitee der WM 2020 stattete dem Bündner Südtal einen Besuch ab.
PRIORITY:1
CLASS:PUBLIC
BEGIN:VALARM
TRIGGER:-PT10080M
ACTION:DISPLAY
DESCRIPTION:Reminder
END:VALARM
END:VEVENT
END:VCALENDAR
